BEGIN:VCALENDAR
VERSION:2.0
PRODID:icalendar-ruby
CALSCALE:GREGORIAN
METHOD:PUBLISH
BEGIN:VEVENT
DTSTAMP:20260422T001633Z
UID:40-517662@bocminc.com
DTSTART:20260923T224500Z
DTEND:20260923T234500Z
CLASS:PUBLIC
CREATED:20260421T184444
DESCRIPTION:
LAST-MODIFIED:20260421T184444
LOCATION:
SUMMARY:Prayer
URL;VALUE=URI:https://www.bocminc.com/events/prayer--40/2026-09-23
END:VEVENT
END:VCALENDAR
