BEGIN:VCALENDAR
VERSION:2.0
PRODID:icalendar-ruby
CALSCALE:GREGORIAN
METHOD:PUBLISH
BEGIN:VEVENT
DTSTAMP:20260422T051357Z
UID:40-518074@bocminc.com
DTSTART:20261014T224500Z
DTEND:20261014T234500Z
CLASS:PUBLIC
CREATED:20260421T212327
DESCRIPTION:
LAST-MODIFIED:20260421T212327
LOCATION:
SUMMARY:Prayer
URL;VALUE=URI:https://www.bocminc.com/events/prayer--40/2026-10-14
END:VEVENT
END:VCALENDAR
